BEGIN:VCALENDAR
VERSION:2.0
PRODID:-//ChamberMaster//Event Calendar 2.0//EN
METHOD:PUBLISH
X-PUBLISHED-TTL:P1H
REFRESH-INTERVAL:P1H
CALSCALE:GREGORIAN
BEGIN:VTIMEZONE
TZID:America/Chicago
BEGIN:DAYLIGHT
RRULE:FREQ=YEARLY;BYMONTH=3;BYDAY=2SU
DTSTART:20070101T000000
TZOFFSETFROM:-0600
TZOFFSETTO:-0500
TZNAME:Central Daylight Time
END:DAYLIGHT
BEGIN:STANDARD
RRULE:FREQ=YEARLY;BYMONTH=11;BYDAY=1SU
DTSTART:20070101T000000
TZOFFSETFROM:-0500
TZOFFSETTO:-0600
TZNAME:Central Standard Time
END:STANDARD
END:VTIMEZONE
BEGIN:VEVENT
DTSTART;TZID=America/Chicago:20260709T080040
DTEND;TZID=America/Chicago:20260709T130040
X-MICROSOFT-CDO-ALLDAYEVENT:FALSE
SUMMARY:2026 Bill Clark Memorial Golf Tournament
DESCRIPTION:Thursday\, July 9 | 8:00 AM\nCotton Creek Course at Craft Farms | Gulf Shores\, ALJoin us for a great day on the green ahead of the 2026 LMTA Annual Convention. The Bill Clark Memorial Golf Tournament will be held Thursday morning at the beautiful Cotton Creek Course at Craft Farms in Gulf Shores.Breakfast and lunch are included. We will also host a Calcutta\, giving participants the opportunity to bid on teams and add an extra level of excitement and competition to the day.This tournament is a fundraising event for LMTA\, organized by Tournament Director Jamey Satawa.Sponsorship opportunities are available and can be purchased online or by contacting Jamey at jamey.satawa@marshmma.comPlease note:This is a separate registration from LMTA's Annual Convention.The tournament will begin promptly at 8:00 AM\, so please allow ample travel time.
X-ALT-DESC;FMTTYPE=text/html:<!DOCTYPE html><html><head><title></title></head><body aria-disabled="false"><p><meta charset="utf-8"></p><hr fr-original-style="" style="clear: both\; user-select: none\; break-after: page\;"><p data-end="261" data-start="169"><strong data-end="200" data-start="169" fr-original-style="" style="font-weight: 700\;">Thursday\, July 9 | 8:00 AM</strong><br data-start="200" data-end="203"><a fr-original-style="" href="https://craftfarms.com/cotton-creek-golf-course/" rel="noopener noreferrer" style="user-select: auto\;" target="_blank"><strong data-end="259" data-start="203" fr-original-style="" style="font-weight: 700\;">Cotton Creek Course at Craft Farms&nbsp\;</strong></a><strong data-end="259" data-start="203" fr-original-style="" style="font-weight: 700\;">| Gulf Shores\, AL</strong></p><p><meta charset="utf-8"></p><p data-end="301" data-start="85">Join us for a great day on the green ahead of the 2026 LMTA Annual Convention. The Bill Clark Memorial Golf Tournament will be held Thursday morning at the beautiful Cotton Creek Course at Craft Farms in Gulf Shores.</p><p data-end="503" data-start="303"><strong fr-original-style="" style="font-weight: 700\;">Breakfast and lunch are included.&nbsp\;</strong><strong fr-original-style="" style="font-weight: 700\;">We will also host a Calcutta\, giving participants the opportunity to bid on teams&nbsp\;</strong>and add an extra level of excitement and competition to the day.</p><p data-end="748" data-start="653">This tournament is a fundraising event for LMTA\, organized by Tournament Director Jamey Satawa.</p><p data-end="979" data-start="829">Sponsorship opportunities are available and can be purchased online or by contacting Jamey at <a fr-original-style="" href="mailto:jamey.satawa@marshmma.com" style="user-select: auto\;">jamey.satawa@marshmma.com</a></p><p data-end="1002" data-start="981"><strong data-end="1000" data-start="984" fr-original-style="" style="font-weight: 700\;">Please note:</strong></p><ul fr-original-style="" style="list-style-position: inside\;"><li data-end="1073" data-start="1005">This is a <strong data-end="1040" data-start="1015" fr-original-style="" style="font-weight: 700\;">separate registration</strong> from LMTA&#39\;s Annual Convention.</li><li data-end="1073" data-start="1005">The tournament will begin promptly at <strong data-end="1125" data-start="1114" fr-original-style="" style="font-weight: 700\;">8:00 AM</strong>\, so please allow ample travel time.</li></ul></body></html>
LOCATION:3840 Cotton Creek Blvd Gulf Shores AL 36542
UID:e.2812.1444386
SEQUENCE:3
DTSTAMP:20260420T182612Z
URL:https://louisianamotortransportassociation.growthzoneapp.com/test/Details/2026-bill-clark-memorial-golf-tournament-1710750?sourceTypeId=Hub
END:VEVENT
END:VCALENDAR
