BEGIN:VCALENDAR
VERSION:2.0
PRODID:-//ChamberMaster//Event Calendar 2.0//EN
METHOD:PUBLISH
X-PUBLISHED-TTL:P1H
REFRESH-INTERVAL:P1H
CALSCALE:GREGORIAN
BEGIN:VTIMEZONE
TZID:America/Chicago
BEGIN:DAYLIGHT
RRULE:FREQ=YEARLY;BYMONTH=3;BYDAY=2SU
DTSTART:20070101T000000
TZOFFSETFROM:-0600
TZOFFSETTO:-0500
TZNAME:Central Daylight Time
END:DAYLIGHT
BEGIN:STANDARD
RRULE:FREQ=YEARLY;BYMONTH=11;BYDAY=1SU
DTSTART:20070101T000000
TZOFFSETFROM:-0500
TZOFFSETTO:-0600
TZNAME:Central Standard Time
END:STANDARD
END:VTIMEZONE
BEGIN:VEVENT
DTSTART;VALUE=DATE:20260415
DTEND;VALUE=DATE:20260417
TRANSP:TRANSPARENT
X-MICROSOFT-CDO-ALLDAYEVENT:TRUE
SUMMARY:Apr 15-16: Future Leaders Class
DESCRIPTION:Wednesday\, April 152:00   5:00 PM: Project Wrap-Up & Group Presentation Rehearsal6:00 PM: Tacos & Truckers - LMTA OfficeThursday\, April 16: 8:00   10:00 AM: Board of Directors Meeting10:30 AM - NOON: Future Leaders Presentations to the Board of DirectorsNOON - UNTIL: LMTA Future Leaders' Day at the CapitolTacos & Truckers: Pre-Board SocialJoin us the evening before the Board meeting for a casual Tacos & Truckers social at the office. We'll kick things off at 6:00 PM with tacos\, margaritas\, and good company. It's a great chance to unwind\, connect\, and get ready for the meeting ahead. Come hungry and bring your appetite for conversation.
X-ALT-DESC;FMTTYPE=text/html:<!DOCTYPE html><html><head><title></title></head><body aria-disabled="false"><p><meta charset="utf-8"></p><article data-scroll-anchor="true" data-testid="conversation-turn-16" data-turn="assistant" data-turn-id="request-694193f6-fbb8-8332-bab1-c96d157e6d1c-1" dir="auto" tabindex="-1"><div tabindex="-1"><strong fr-original-style="" style="font-weight: 700\;">Wednesday\, April 15</strong></div></article><ul fr-original-style="" style="list-style-position: inside\;"><li><strong fr-original-style="" style="font-weight: 700\;">2:00 &ndash\; 5:00 PM:&nbsp\;</strong>Project Wrap-Up &amp\; Group Presentation Rehearsal</li><li><strong fr-original-style="" style="font-weight: 700\;">6:00 PM:&nbsp\;</strong>Tacos &amp\; Truckers - LMTA Office</li></ul><p><strong fr-original-style="" style="font-weight: 700\;">Thursday\, April 16:&nbsp\;</strong></p><ul fr-original-style="" style="list-style-position: inside\;"><li><meta charset="utf-8"><strong fr-original-style="" style="font-weight: 700\;">8:00 &ndash\; 10:00 AM:</strong> Board of Directors Meeting</li><li><strong fr-original-style="" style="font-weight: 700\;">10:30 AM - NOON:&nbsp\;</strong>Future Leaders Presentations to the Board of Directors</li><li><strong fr-original-style="" style="font-weight: 700\;">NOON - UNTIL:&nbsp\;</strong>LMTA Future Leaders&#39\; Day at the Capitol</li></ul><hr fr-original-style="" style="clear: both\; user-select: none\; break-after: page\;"><p><meta charset="utf-8"></p><h3>Tacos &amp\; Truckers: Pre-Board Social</h3><p>Join us the evening before the Board meeting for a casual Tacos &amp\; Truckers social at the office. We&rsquo\;ll kick things off at 6:00 PM with tacos\, margaritas\, and good company. It&rsquo\;s a great chance to unwind\, connect\, and get ready for the meeting ahead. Come hungry and bring your appetite for conversation.</p></body></html>
LOCATION:325 Florida Avenue Baton Rouge LA 70808
UID:e.2812.1414729
SEQUENCE:3
DTSTAMP:20260420T182612Z
URL:https://louisianamotortransportassociation.growthzoneapp.com/test/Details/apr-15-16-future-leaders-class-1672030?sourceTypeId=Hub
END:VEVENT
END:VCALENDAR
